BEGIN:VCALENDAR
VERSION:2.0
PRODID:-//http://www.bomi40.eu///NONSGML kigkonsult.se iCalcreator 2.10.15//
METHOD:PUBLISH
BEGIN:VEVENT
UID:20260419T145710CEST-42185REUvh@http://www.bomi40.eu/
DTSTAMP:20260419T125710Z
DESCRIPTION:Nach einer 6-wöchigen Vorphase\, die ganz unter dem Motto „lern
 en und rede mit“ steht\, feiern die Veranstalter am 10. November den natio
 nalen Digitaltag. Folgen Sie spannenden Diskussionen auf dem Livestream au
 f der Webseite\, lassen Sie sich inspirieren von Podcasts oder besuchen Si
 e einen der 17 Standorte in der Schweiz\, wo Digitalisierung ebenfalls im 
 Fokus steht.\nDer Schweizer Digitaltag hat auch 2021 zum Ziel\, die Bevölk
 erung rund um das Thema Digitalisierung zusammenzubringen.\nProgramm folgt
 ...\nWeitere Informationen zur Veranstaltung finden Sie hier... http://www
 .bomi40.eu/de/service-kompetenz/veranstaltungen/veranstaltungskalender/eve
 nt/2262-5-schweizer-digitaltag
DTSTART;VALUE=DATE:20211110
LOCATION: Online an Ihrem PC oder Laptop ()
SUMMARY:5. Schweizer Digitaltag
URL:http://www.bomi40.eu/de/service-kompetenz/veranstaltungen/veranstaltung
 skalender/event/2262-5-schweizer-digitaltag
END:VEVENT
END:VCALENDAR
